BEGIN:VCALENDAR
VERSION:2.0
PRODID:-//198.143.129.140//NONSGML kigkonsult.se iCalcreator 2.26.9//
CALSCALE:GREGORIAN
METHOD:PUBLISH
X-FROM-URL:https://skills.qld.edu.au
X-WR-TIMEZONE:Australia/Brisbane
BEGIN:VTIMEZONE
TZID:Australia/Brisbane
X-LIC-LOCATION:Australia/Brisbane
BEGIN:STANDARD
DTSTART:19920301T030000
TZOFFSETFROM:+1100
TZOFFSETTO:+1000
TZNAME:AEST
END:STANDARD
END:VTIMEZONE
BEGIN:VEVENT
UID:ai1ec-1287@skills.qld.edu.au/sia
DTSTAMP:20210226T234954Z
CATEGORIES;LANGUAGE=en-US:Public holidays
CONTACT:
DESCRIPTION:
DTSTART;VALUE=DATE:20180330
DTEND;VALUE=DATE:20180331
RDATE;TZID=Australia/Brisbane:20180330T000000
RDATE;TZID=Australia/Brisbane:20190419T000000
SEQUENCE:0
SUMMARY:Good Friday
URL:https://skills.qld.edu.au/event/good-friday/
X-COST-TYPE:free
END:VEVENT
BEGIN:VEVENT
UID:ai1ec-1288@skills.qld.edu.au/sia
DTSTAMP:20210226T234954Z
CATEGORIES;LANGUAGE=en-US:Public holidays
CONTACT:
DESCRIPTION:
DTSTART;VALUE=DATE:20180331
DTEND;VALUE=DATE:20180401
RDATE;TZID=Australia/Brisbane:20180331T000000
RDATE;TZID=Australia/Brisbane:20190420T000000
SEQUENCE:0
SUMMARY:Easter Saturday
URL:https://skills.qld.edu.au/event/easter-saturday/
X-COST-TYPE:free
END:VEVENT
BEGIN:VEVENT
UID:ai1ec-1289@skills.qld.edu.au/sia
DTSTAMP:20210226T234954Z
CATEGORIES;LANGUAGE=en-US:Public holidays
CONTACT:
DESCRIPTION:
DTSTART;VALUE=DATE:20180402
DTEND;VALUE=DATE:20180403
RDATE;TZID=Australia/Brisbane:20180402T000000
RDATE;TZID=Australia/Brisbane:20190422T000000
SEQUENCE:0
SUMMARY:Easter Monday
URL:https://skills.qld.edu.au/event/easter-monday/
X-COST-TYPE:free
END:VEVENT
BEGIN:VEVENT
UID:ai1ec-1290@skills.qld.edu.au/sia
DTSTAMP:20210226T234954Z
CATEGORIES;LANGUAGE=en-US:Public holidays
CONTACT:
DESCRIPTION:
DTSTART;VALUE=DATE:20180425
DTEND;VALUE=DATE:20180426
RRULE:FREQ=YEARLY;BYMONTH=4
SEQUENCE:0
SUMMARY:Anzac Day
URL:https://skills.qld.edu.au/event/anzac-day/
X-COST-TYPE:free
END:VEVENT
BEGIN:VEVENT
UID:ai1ec-1291@skills.qld.edu.au/sia
DTSTAMP:20210226T234954Z
CATEGORIES;LANGUAGE=en-US:Public holidays
CONTACT:
DESCRIPTION:
DTSTART;VALUE=DATE:20180507
DTEND;VALUE=DATE:20180508
RDATE;TZID=Australia/Brisbane:20180507T000000
RDATE;TZID=Australia/Brisbane:20190506T000000
RDATE;TZID=Australia/Brisbane:20200504T000000
SEQUENCE:0
SUMMARY:Labour Day
URL:https://skills.qld.edu.au/event/labour-day/
X-COST-TYPE:free
END:VEVENT
BEGIN:VEVENT
UID:ai1ec-1309@skills.qld.edu.au/sia
DTSTAMP:20210226T234954Z
CATEGORIES;LANGUAGE=en-US:Academic breaks
CONTACT:
DESCRIPTION:
DTSTART;VALUE=DATE:20180617
DTEND;VALUE=DATE:20180709
SEQUENCE:0
SUMMARY:Mid year break 2018
URL:https://skills.qld.edu.au/event/mid-year-break-2018/
X-COST-TYPE:free
END:VEVENT
BEGIN:VEVENT
UID:ai1ec-1296@skills.qld.edu.au/sia
DTSTAMP:20210226T234954Z
CATEGORIES;LANGUAGE=en-US:Special events
CONTACT:
DESCRIPTION:
DTSTART;VALUE=DATE:20180709
DTEND;VALUE=DATE:20180710
RDATE;TZID=Australia/Brisbane:20170710T000000
RDATE;TZID=Australia/Brisbane:20180108T000000
RDATE;TZID=Australia/Brisbane:20180709T000000
RDATE;TZID=Australia/Brisbane:20190114T000000
RDATE;TZID=Australia/Brisbane:20190708T000000
RDATE;TZID=Australia/Brisbane:20200113T000000
RDATE;TZID=Australia/Brisbane:20200706T000000
RDATE;TZID=Australia/Brisbane:20210111T000000
SEQUENCE:0
SUMMARY:School resumes
URL:https://skills.qld.edu.au/event/school-resumes/
X-COST-TYPE:free
END:VEVENT
BEGIN:VEVENT
UID:ai1ec-1292@skills.qld.edu.au/sia
DTSTAMP:20210226T234954Z
CATEGORIES;LANGUAGE=en-US:Public holidays
CONTACT:
DESCRIPTION:
DTSTART;VALUE=DATE:20180813
DTEND;VALUE=DATE:20180814
RDATE;TZID=Australia/Brisbane:20180813T000000
RDATE;TZID=Australia/Brisbane:20190812T000000
RDATE;TZID=Australia/Brisbane:20200810T000000
SEQUENCE:0
SUMMARY:Royal Show
URL:https://skills.qld.edu.au/event/royal-show/
X-COST-TYPE:free
END:VEVENT
BEGIN:VEVENT
UID:ai1ec-1293@skills.qld.edu.au/sia
DTSTAMP:20210226T234954Z
CATEGORIES;LANGUAGE=en-US:Public holidays
CONTACT:
DESCRIPTION:
DTSTART;VALUE=DATE:20181001
DTEND;VALUE=DATE:20181002
RDATE;TZID=Australia/Brisbane:20181001T000000
RDATE;TZID=Australia/Brisbane:20191007T000000
RDATE;TZID=Australia/Brisbane:20201005T000000
SEQUENCE:0
SUMMARY:Queen’s birthday
URL:https://skills.qld.edu.au/event/queens-birthday/
X-COST-TYPE:free
END:VEVENT
BEGIN:VEVENT
UID:ai1ec-1310@skills.qld.edu.au/sia
DTSTAMP:20210226T234954Z
CATEGORIES;LANGUAGE=en-US:Academic breaks
CONTACT:
DESCRIPTION:
DTSTART;VALUE=DATE:20181223
DTEND;VALUE=DATE:20190114
SEQUENCE:0
SUMMARY:Christmas break 2018
URL:https://skills.qld.edu.au/event/christmas-break-2018/
X-COST-TYPE:free
END:VEVENT
BEGIN:VEVENT
UID:ai1ec-1279@skills.qld.edu.au/sia
DTSTAMP:20210226T234954Z
CATEGORIES;LANGUAGE=en-US:Public holidays
CONTACT:
DESCRIPTION:
DTSTART;VALUE=DATE:20181225
DTEND;VALUE=DATE:20181226
RRULE:FREQ=YEARLY;BYMONTH=12
SEQUENCE:0
SUMMARY:Christmas day
URL:https://skills.qld.edu.au/event/christmas-day/
X-COST-TYPE:free
END:VEVENT
BEGIN:VEVENT
UID:ai1ec-1281@skills.qld.edu.au/sia
DTSTAMP:20210226T234954Z
CATEGORIES;LANGUAGE=en-US:Public holidays
CONTACT:
DESCRIPTION:
DTSTART;VALUE=DATE:20181226
DTEND;VALUE=DATE:20181227
RRULE:FREQ=YEARLY;BYMONTH=12
SEQUENCE:0
SUMMARY:Boxing day
URL:https://skills.qld.edu.au/event/boxing-day/
X-COST-TYPE:free
END:VEVENT
BEGIN:VEVENT
UID:ai1ec-1284@skills.qld.edu.au/sia
DTSTAMP:20210226T234954Z
CATEGORIES;LANGUAGE=en-US:Public holidays
CONTACT:
DESCRIPTION:
DTSTART;VALUE=DATE:20190101
DTEND;VALUE=DATE:20190102
RRULE:FREQ=YEARLY;BYMONTH=1
SEQUENCE:0
SUMMARY:New Year’s Day
URL:https://skills.qld.edu.au/event/new-years-day/
X-COST-TYPE:free
END:VEVENT
BEGIN:VEVENT
UID:ai1ec-1286@skills.qld.edu.au/sia
DTSTAMP:20210226T234954Z
CATEGORIES;LANGUAGE=en-US:Public holidays
CONTACT:
DESCRIPTION:
DTSTART;VALUE=DATE:20190126
DTEND;VALUE=DATE:20190127
RRULE:FREQ=YEARLY;BYMONTH=1
SEQUENCE:0
SUMMARY:Australia Day
URL:https://skills.qld.edu.au/event/australia-day/
X-COST-TYPE:free
END:VEVENT
BEGIN:VEVENT
UID:ai1ec-1311@skills.qld.edu.au/sia
DTSTAMP:20210226T234954Z
CATEGORIES;LANGUAGE=en-US:Academic breaks
CONTACT:
DESCRIPTION:
DTSTART;VALUE=DATE:20190616
DTEND;VALUE=DATE:20190708
SEQUENCE:0
SUMMARY:Mid year break 2019
URL:https://skills.qld.edu.au/event/mid-year-break-2019/
X-COST-TYPE:free
END:VEVENT
BEGIN:VEVENT
UID:ai1ec-1312@skills.qld.edu.au/sia
DTSTAMP:20210226T234954Z
CATEGORIES;LANGUAGE=en-US:Academic breaks
CONTACT:
DESCRIPTION:
DTSTART;VALUE=DATE:20191222
DTEND;VALUE=DATE:20200113
SEQUENCE:0
SUMMARY:Christmas break 2019
URL:https://skills.qld.edu.au/event/christmas-break-2019/
X-COST-TYPE:free
END:VEVENT
BEGIN:VEVENT
UID:ai1ec-1313@skills.qld.edu.au/sia
DTSTAMP:20210226T234954Z
CATEGORIES;LANGUAGE=en-US:Academic breaks
CONTACT:
DESCRIPTION:
DTSTART;VALUE=DATE:20200614
DTEND;VALUE=DATE:20200706
SEQUENCE:0
SUMMARY:Mid year break 2020
URL:https://skills.qld.edu.au/event/mid-year-break-2020/
X-COST-TYPE:free
END:VEVENT
BEGIN:VEVENT
UID:ai1ec-1314@skills.qld.edu.au/sia
DTSTAMP:20210226T234954Z
CATEGORIES;LANGUAGE=en-US:Academic breaks
CONTACT:
DESCRIPTION:
DTSTART;VALUE=DATE:20201220
DTEND;VALUE=DATE:20210111
SEQUENCE:0
SUMMARY:Christmas break 2020
URL:https://skills.qld.edu.au/event/christmas-break-2020/
X-COST-TYPE:free
END:VEVENT
END:VCALENDAR
